Package: clustifyr Version: 1.16.2 Command: /home/biocbuild/bbs-3.19-bioc/R/bin/R CMD INSTALL clustifyr StartedAt: 2024-10-16 16:27:41 -0400 (Wed, 16 Oct 2024) EndedAt: 2024-10-16 16:28:12 -0400 (Wed, 16 Oct 2024) EllapsedTime: 31.4 seconds RetCode: 0 Status: OK