Package: clustifyr Version: 1.16.2 Command: /home/biocbuild/bbs-3.19-bioc/R/bin/R CMD check --install=check:clustifyr.install-out.txt --library=/home/biocbuild/bbs-3.19-bioc/R/site-library --timings clustifyr_1.16.2.tar.gz StartedAt: 2024-10-16 22:53:53 -0400 (Wed, 16 Oct 2024) EndedAt: 2024-10-16 23:05:32 -0400 (Wed, 16 Oct 2024) EllapsedTime: 698.5 seconds RetCode: 0 Status: OK CheckDir: clustifyr.Rcheck Warnings: 0