Package: clustifyr Version: 1.16.2 Command: /Library/Frameworks/R.framework/Resources/bin/R CMD check --install=check:clustifyr.install-out.txt --library=/Library/Frameworks/R.framework/Resources/library --no-vignettes --timings clustifyr_1.16.2.tar.gz StartedAt: 2024-10-17 02:56:23 -0400 (Thu, 17 Oct 2024) EndedAt: 2024-10-17 03:21:09 -0400 (Thu, 17 Oct 2024) EllapsedTime: 1485.4 seconds RetCode: 0 Status: OK CheckDir: clustifyr.Rcheck Warnings: 0