Package: clustifyr Version: 1.16.2 Command: /Library/Frameworks/R.framework/Resources/bin/R CMD build --keep-empty-dirs --no-resave-data clustifyr StartedAt: 2024-10-16 18:02:39 -0400 (Wed, 16 Oct 2024) EndedAt: 2024-10-16 18:05:17 -0400 (Wed, 16 Oct 2024) EllapsedTime: 158.4 seconds RetCode: 0 Status: OK PackageFile: clustifyr_1.16.2.tar.gz PackageFileSize: 3.313 MiB