Package: clustifyr Version: 1.16.0 Command: /home/biocbuild/R/R-beta-2024-04-15_r86425/bin/R CMD build --keep-empty-dirs --no-resave-data clustifyr StartedAt: 2024-05-08 23:23:53 -0000 (Wed, 08 May 2024) EndedAt: 2024-05-08 23:25:11 -0000 (Wed, 08 May 2024) EllapsedTime: 78.1 seconds RetCode: 0 Status: OK PackageFile: clustifyr_1.16.0.tar.gz PackageFileSize: 2.943 MiB