Package: clustifyr Version: 1.16.2 Maintainer: Rui Fu MaintainerEmail: ray.sinensis at gmail.com git_url: https://git.bioconductor.org/packages/clustifyr git_branch: RELEASE_3_19 git_last_commit: d755f11 git_last_commit_date: 2024-08-27 16:46:16 -0400 (Tue, 27 Aug 2024)