Package: clusterStab Version: 1.76.0 Command: E:\biocbuild\bbs-3.19-bioc\R\bin\R.exe CMD check --no-multiarch --install=check:clusterStab.install-out.txt --library=E:\biocbuild\bbs-3.19-bioc\R\library --no-vignettes --timings clusterStab_1.76.0.tar.gz StartedAt: 2024-10-17 00:06:50 -0400 (Thu, 17 Oct 2024) EndedAt: 2024-10-17 00:07:22 -0400 (Thu, 17 Oct 2024) EllapsedTime: 32.6 seconds RetCode: 0 Status: OK CheckDir: clusterStab.Rcheck Warnings: 0