Package: clusterStab Version: 1.76.0 Command: chmod a+r clusterStab -R && F:\biocbuild\bbs-3.19-bioc\R\bin\R.exe CMD build --keep-empty-dirs --no-resave-data clusterStab StartedAt: 2024-06-26 17:52:48 -0400 (Wed, 26 Jun 2024) EndedAt: 2024-06-26 17:53:10 -0400 (Wed, 26 Jun 2024) EllapsedTime: 22.0 seconds RetCode: 0 Status: OK PackageFile: clusterStab_1.76.0.tar.gz PackageFileSize: 87.2 KiB