Package: clusterStab Version: 1.76.0 Command: /Library/Frameworks/R.framework/Resources/bin/R CMD INSTALL clusterStab StartedAt: 2024-06-09 15:04:26 -0400 (Sun, 09 Jun 2024) EndedAt: 2024-06-09 15:04:56 -0400 (Sun, 09 Jun 2024) EllapsedTime: 30.2 seconds RetCode: 0 Status: OK