Package: clusterStab Version: 1.76.0 Command: /Library/Frameworks/R.framework/Resources/bin/R CMD check --install=check:clusterStab.install-out.txt --library=/Library/Frameworks/R.framework/Resources/library --no-vignettes --timings clusterStab_1.76.0.tar.gz StartedAt: 2024-06-09 19:28:56 -0400 (Sun, 09 Jun 2024) EndedAt: 2024-06-09 19:29:30 -0400 (Sun, 09 Jun 2024) EllapsedTime: 33.6 seconds RetCode: 0 Status: OK CheckDir: clusterStab.Rcheck Warnings: 0