Package: clusterStab Version: 1.76.0 Command: /home/biocbuild/R/R-beta-2024-04-15_r86425/bin/R CMD build --keep-empty-dirs --no-resave-data clusterStab StartedAt: 2024-05-08 23:23:50 -0000 (Wed, 08 May 2024) EndedAt: 2024-05-08 23:24:06 -0000 (Wed, 08 May 2024) EllapsedTime: 16.0 seconds RetCode: 0 Status: OK PackageFile: clusterStab_1.76.0.tar.gz PackageFileSize: 178.2 KiB