Package: clusterSeq Version: 1.28.0 Maintainer: Samuel Granjeaud MaintainerEmail: samuel.granjeaud at inserm.fr git_url: https://git.bioconductor.org/packages/clusterSeq git_branch: RELEASE_3_19 git_last_commit: ac4d512 git_last_commit_date: 2024-04-30 10:55:29 -0400 (Tue, 30 Apr 2024)