Package: clusterProfiler Version: 4.12.6 Command: E:\biocbuild\bbs-3.19-bioc\R\bin\R.exe CMD INSTALL clusterProfiler StartedAt: 2024-10-16 16:57:53 -0400 (Wed, 16 Oct 2024) EndedAt: 2024-10-16 16:59:05 -0400 (Wed, 16 Oct 2024) EllapsedTime: 72.3 seconds RetCode: 0 Status: OK