Package: clusterProfiler Version: 4.12.6 Command: E:\biocbuild\bbs-3.19-bioc\R\bin\R.exe CMD check --no-multiarch --install=check:clusterProfiler.install-out.txt --library=E:\biocbuild\bbs-3.19-bioc\R\library --no-vignettes --timings clusterProfiler_4.12.6.tar.gz StartedAt: 2024-10-17 00:06:43 -0400 (Thu, 17 Oct 2024) EndedAt: 2024-10-17 00:11:09 -0400 (Thu, 17 Oct 2024) EllapsedTime: 265.9 seconds RetCode: 0 Status: OK CheckDir: clusterProfiler.Rcheck Warnings: 0