Package: clusterProfiler Version: 4.12.6 Command: chmod a+r clusterProfiler -R && E:\biocbuild\bbs-3.19-bioc\R\bin\R.exe CMD build --keep-empty-dirs --no-resave-data clusterProfiler StartedAt: 2024-10-16 18:15:58 -0400 (Wed, 16 Oct 2024) EndedAt: 2024-10-16 18:16:42 -0400 (Wed, 16 Oct 2024) EllapsedTime: 43.4 seconds RetCode: 0 Status: OK PackageFile: clusterProfiler_4.12.6.tar.gz PackageFileSize: 610.2 KiB