Package: clusterProfiler Version: 4.12.6 Command: /home/biocbuild/bbs-3.19-bioc/R/bin/R CMD check --install=check:clusterProfiler.install-out.txt --library=/home/biocbuild/bbs-3.19-bioc/R/site-library --timings clusterProfiler_4.12.6.tar.gz StartedAt: 2024-10-16 22:52:37 -0400 (Wed, 16 Oct 2024) EndedAt: 2024-10-16 22:56:13 -0400 (Wed, 16 Oct 2024) EllapsedTime: 215.5 seconds RetCode: 0 Status: OK CheckDir: clusterProfiler.Rcheck Warnings: 0