Package: clusterProfiler Version: 4.12.6 Command: rm -rf clusterProfiler.buildbin-libdir && mkdir clusterProfiler.buildbin-libdir && /Users/biocbuild/BBS/utils/build-universal.sh clusterProfiler_4.12.6.tar.gz /Library/Frameworks/R.framework/Resources/bin/R clusterProfiler.buildbin-libdir StartedAt: 2024-10-17 15:52:28 -0400 (Thu, 17 Oct 2024) EndedAt: 2024-10-17 15:53:31 -0400 (Thu, 17 Oct 2024) EllapsedTime: 62.8 seconds RetCode: 0 Status: OK PackageFile: clusterProfiler_4.12.6.tgz PackageFileSize: 1.01 MiB