Package: clusterProfiler Version: 4.12.6 Command: rm -rf clusterProfiler.buildbin-libdir && mkdir clusterProfiler.buildbin-libdir && /Users/biocbuild/BBS/utils/build-universal.sh clusterProfiler_4.12.6.tar.gz /Library/Frameworks/R.framework/Resources/bin/R clusterProfiler.buildbin-libdir StartedAt: 2024-10-18 17:49:57 -0400 (Fri, 18 Oct 2024) EndedAt: 2024-10-18 17:50:34 -0400 (Fri, 18 Oct 2024) EllapsedTime: 37.2 seconds RetCode: 0 Status: OK PackageFile: clusterProfiler_4.12.6.tgz PackageFileSize: 1.01 MiB