Package: clusterExperiment Version: 2.24.0 Command: E:\biocbuild\bbs-3.19-bioc\R\bin\R.exe CMD INSTALL clusterExperiment StartedAt: 2024-10-16 17:11:20 -0400 (Wed, 16 Oct 2024) EndedAt: 2024-10-16 17:13:58 -0400 (Wed, 16 Oct 2024) EllapsedTime: 158.4 seconds RetCode: 0 Status: OK