Package: clusterExperiment Version: 2.24.0 Command: chmod a+r clusterExperiment -R && E:\biocbuild\bbs-3.19-bioc\R\bin\R.exe CMD build --keep-empty-dirs --no-resave-data clusterExperiment StartedAt: 2024-10-16 18:15:36 -0400 (Wed, 16 Oct 2024) EndedAt: 2024-10-16 18:24:53 -0400 (Wed, 16 Oct 2024) EllapsedTime: 557.0 seconds RetCode: 0 Status: OK PackageFile: clusterExperiment_2.24.0.tar.gz PackageFileSize: 7.729 MiB