Package: clusterExperiment Version: 2.24.0 Command: rm -rf clusterExperiment.buildbin-libdir && mkdir clusterExperiment.buildbin-libdir && E:\biocbuild\bbs-3.19-bioc\R\bin\R.exe CMD INSTALL --build --library=clusterExperiment.buildbin-libdir clusterExperiment_2.24.0.tar.gz StartedAt: 2024-10-17 07:33:16 -0400 (Thu, 17 Oct 2024) EndedAt: 2024-10-17 07:42:07 -0400 (Thu, 17 Oct 2024) EllapsedTime: 530.1 seconds RetCode: 0 Status: OK PackageFile: clusterExperiment_2.24.0.zip PackageFileSize: 9.019 MiB