Package: clusterExperiment Version: 2.24.0 Command: F:\biocbuild\bbs-3.19-bioc\R\bin\R.exe CMD INSTALL clusterExperiment StartedAt: 2024-06-26 16:42:57 -0400 (Wed, 26 Jun 2024) EndedAt: 2024-06-26 16:45:02 -0400 (Wed, 26 Jun 2024) EllapsedTime: 125.1 seconds RetCode: 0 Status: OK