Package: clusterExperiment Version: 2.24.0 Command: chmod a+r clusterExperiment -R && F:\biocbuild\bbs-3.19-bioc\R\bin\R.exe CMD build --keep-empty-dirs --no-resave-data clusterExperiment StartedAt: 2024-06-26 17:51:43 -0400 (Wed, 26 Jun 2024) EndedAt: 2024-06-26 18:00:07 -0400 (Wed, 26 Jun 2024) EllapsedTime: 503.7 seconds RetCode: 0 Status: OK PackageFile: clusterExperiment_2.24.0.tar.gz PackageFileSize: 7.729 MiB