Package: clusterExperiment Version: 2.24.0 Command: /home/biocbuild/bbs-3.19-bioc/R/bin/R CMD check --install=check:clusterExperiment.install-out.txt --library=/home/biocbuild/bbs-3.19-bioc/R/site-library --timings clusterExperiment_2.24.0.tar.gz StartedAt: 2024-10-16 22:51:15 -0400 (Wed, 16 Oct 2024) EndedAt: 2024-10-16 23:12:11 -0400 (Wed, 16 Oct 2024) EllapsedTime: 1255.8 seconds RetCode: 0 Status: WARNINGS CheckDir: clusterExperiment.Rcheck Warnings: 2