Package: clusterExperiment Version: 2.24.0 Command: /home/biocbuild/bbs-3.19-bioc/R/bin/R CMD build --keep-empty-dirs --no-resave-data clusterExperiment StartedAt: 2024-10-16 17:49:37 -0400 (Wed, 16 Oct 2024) EndedAt: 2024-10-16 17:54:59 -0400 (Wed, 16 Oct 2024) EllapsedTime: 321.6 seconds RetCode: 0 Status: OK PackageFile: clusterExperiment_2.24.0.tar.gz PackageFileSize: 10.53 MiB