Package: clusterExperiment Version: 2.24.0 Command: /Library/Frameworks/R.framework/Resources/bin/R CMD check --install=check:clusterExperiment.install-out.txt --library=/Library/Frameworks/R.framework/Resources/library --no-vignettes --timings clusterExperiment_2.24.0.tar.gz StartedAt: 2024-10-17 02:51:47 -0400 (Thu, 17 Oct 2024) EndedAt: 2024-10-17 03:31:48 -0400 (Thu, 17 Oct 2024) EllapsedTime: 2400.7 seconds RetCode: None Status: TIMEOUT CheckDir: clusterExperiment.Rcheck Warnings: NA