Package: clusterExperiment Version: 2.24.0 Command: /Library/Frameworks/R.framework/Resources/bin/R CMD build --keep-empty-dirs --no-resave-data clusterExperiment StartedAt: 2024-10-16 18:01:31 -0400 (Wed, 16 Oct 2024) EndedAt: 2024-10-16 18:17:01 -0400 (Wed, 16 Oct 2024) EllapsedTime: 930.1 seconds RetCode: 0 Status: OK PackageFile: clusterExperiment_2.24.0.tar.gz PackageFileSize: 12.07 MiB