Package: clusterExperiment Version: 2.24.0 Command: /Library/Frameworks/R.framework/Resources/bin/R CMD INSTALL clusterExperiment StartedAt: 2024-10-16 18:30:36 -0400 (Wed, 16 Oct 2024) EndedAt: 2024-10-16 18:32:03 -0400 (Wed, 16 Oct 2024) EllapsedTime: 87.1 seconds RetCode: 0 Status: OK