Package: clusterExperiment Version: 2.24.0 Command: /Library/Frameworks/R.framework/Resources/bin/R CMD check --install=check:clusterExperiment.install-out.txt --library=/Library/Frameworks/R.framework/Resources/library --no-vignettes --timings clusterExperiment_2.24.0.tar.gz StartedAt: 2024-10-17 16:30:59 -0400 (Thu, 17 Oct 2024) EndedAt: 2024-10-17 16:50:35 -0400 (Thu, 17 Oct 2024) EllapsedTime: 1176.1 seconds RetCode: 0 Status: WARNINGS CheckDir: clusterExperiment.Rcheck Warnings: 2