Package: clustComp Version: 1.32.0 Command: rm -rf clustComp.buildbin-libdir && mkdir clustComp.buildbin-libdir && F:\biocbuild\bbs-3.19-bioc\R\bin\R.exe CMD INSTALL --build --library=clustComp.buildbin-libdir clustComp_1.32.0.tar.gz StartedAt: 2024-06-27 08:00:22 -0400 (Thu, 27 Jun 2024) EndedAt: 2024-06-27 08:00:32 -0400 (Thu, 27 Jun 2024) EllapsedTime: 9.6 seconds RetCode: 0 Status: OK PackageFile: clustComp_1.32.0.zip PackageFileSize: 886.2 KiB