Package: clustComp Version: 1.32.0 Command: /Library/Frameworks/R.framework/Resources/bin/R CMD build --keep-empty-dirs --no-resave-data clustComp StartedAt: 2024-10-16 18:01:11 -0400 (Wed, 16 Oct 2024) EndedAt: 2024-10-16 18:03:07 -0400 (Wed, 16 Oct 2024) EllapsedTime: 116.2 seconds RetCode: 0 Status: OK PackageFile: clustComp_1.32.0.tar.gz PackageFileSize: 931.4 KiB