Package: clstutils Version: 1.52.0 Command: E:\biocbuild\bbs-3.19-bioc\R\bin\R.exe CMD INSTALL clstutils StartedAt: 2024-10-16 16:34:57 -0400 (Wed, 16 Oct 2024) EndedAt: 2024-10-16 16:35:11 -0400 (Wed, 16 Oct 2024) EllapsedTime: 13.7 seconds RetCode: 0 Status: OK