Package: clstutils Version: 1.52.0 Command: F:\biocbuild\bbs-3.19-bioc\R\bin\R.exe CMD INSTALL clstutils StartedAt: 2024-06-26 15:56:36 -0400 (Wed, 26 Jun 2024) EndedAt: 2024-06-26 15:56:44 -0400 (Wed, 26 Jun 2024) EllapsedTime: 7.8 seconds RetCode: 0 Status: OK