Package: clstutils Version: 1.52.0 Command: /Library/Frameworks/R.framework/Resources/bin/R CMD INSTALL clstutils StartedAt: 2024-10-16 15:46:28 -0400 (Wed, 16 Oct 2024) EndedAt: 2024-10-16 15:46:39 -0400 (Wed, 16 Oct 2024) EllapsedTime: 11.2 seconds RetCode: 0 Status: OK