Package: clstutils Version: 1.52.0 Command: /Library/Frameworks/R.framework/Resources/bin/R CMD check --install=check:clstutils.install-out.txt --library=/Library/Frameworks/R.framework/Resources/library --no-vignettes --timings clstutils_1.52.0.tar.gz StartedAt: 2024-10-17 02:50:31 -0400 (Thu, 17 Oct 2024) EndedAt: 2024-10-17 02:52:32 -0400 (Thu, 17 Oct 2024) EllapsedTime: 121.6 seconds RetCode: 0 Status: WARNINGS CheckDir: clstutils.Rcheck Warnings: 1