Package: clstutils Version: 1.52.0 Command: /Library/Frameworks/R.framework/Resources/bin/R CMD build --keep-empty-dirs --no-resave-data clstutils StartedAt: 2024-10-16 18:00:43 -0400 (Wed, 16 Oct 2024) EndedAt: 2024-10-16 18:01:36 -0400 (Wed, 16 Oct 2024) EllapsedTime: 53.0 seconds RetCode: 0 Status: OK PackageFile: clstutils_1.52.0.tar.gz PackageFileSize: 2.694 MiB