Package: clstutils Version: 1.52.0 Command: rm -rf clstutils.buildbin-libdir && mkdir clstutils.buildbin-libdir && /Users/biocbuild/BBS/utils/build-universal.sh clstutils_1.52.0.tar.gz /Library/Frameworks/R.framework/Resources/bin/R clstutils.buildbin-libdir StartedAt: 2024-10-17 15:52:19 -0400 (Thu, 17 Oct 2024) EndedAt: 2024-10-17 15:52:31 -0400 (Thu, 17 Oct 2024) EllapsedTime: 11.7 seconds RetCode: 0 Status: OK PackageFile: clstutils_1.52.0.tgz PackageFileSize: 2.728 MiB