Package: clstutils Version: 1.52.0 Command: /home/biocbuild/R/R-beta-2024-04-15_r86425/bin/R CMD build --keep-empty-dirs --no-resave-data clstutils StartedAt: 2024-05-08 23:22:06 -0000 (Wed, 08 May 2024) EndedAt: 2024-05-08 23:22:23 -0000 (Wed, 08 May 2024) EllapsedTime: 17.0 seconds RetCode: 0 Status: OK PackageFile: clstutils_1.52.0.tar.gz PackageFileSize: 2.68 MiB