Package: clstutils Version: 1.52.0 Command: /Library/Frameworks/R.framework/Resources/bin/R CMD INSTALL clstutils StartedAt: 2024-06-09 16:01:25 -0400 (Sun, 09 Jun 2024) EndedAt: 2024-06-09 16:01:33 -0400 (Sun, 09 Jun 2024) EllapsedTime: 7.9 seconds RetCode: 0 Status: OK