Package: clst Version: 1.52.0 Command: rm -rf clst.buildbin-libdir && mkdir clst.buildbin-libdir && E:\biocbuild\bbs-3.19-bioc\R\bin\R.exe CMD INSTALL --build --library=clst.buildbin-libdir clst_1.52.0.tar.gz StartedAt: 2024-10-17 07:33:08 -0400 (Thu, 17 Oct 2024) EndedAt: 2024-10-17 07:33:18 -0400 (Thu, 17 Oct 2024) EllapsedTime: 9.8 seconds RetCode: 0 Status: OK PackageFile: clst_1.52.0.zip PackageFileSize: 1.55 MiB