Package: clst Version: 1.52.0 Command: chmod a+r clst -R && F:\biocbuild\bbs-3.19-bioc\R\bin\R.exe CMD build --keep-empty-dirs --no-resave-data clst StartedAt: 2024-06-26 17:50:55 -0400 (Wed, 26 Jun 2024) EndedAt: 2024-06-26 17:51:19 -0400 (Wed, 26 Jun 2024) EllapsedTime: 24.0 seconds RetCode: 0 Status: OK PackageFile: clst_1.52.0.tar.gz PackageFileSize: 929.8 KiB