Package: clst Version: 1.52.0 Command: /Library/Frameworks/R.framework/Resources/bin/R CMD INSTALL clst StartedAt: 2024-10-16 15:12:15 -0400 (Wed, 16 Oct 2024) EndedAt: 2024-10-16 15:12:46 -0400 (Wed, 16 Oct 2024) EllapsedTime: 31.2 seconds RetCode: 0 Status: OK