Package: clst Version: 1.52.0 Command: rm -rf clst.buildbin-libdir && mkdir clst.buildbin-libdir && /Users/biocbuild/BBS/utils/build-universal.sh clst_1.52.0.tar.gz /Library/Frameworks/R.framework/Resources/bin/R clst.buildbin-libdir StartedAt: 2024-10-17 15:52:18 -0400 (Thu, 17 Oct 2024) EndedAt: 2024-10-17 15:52:27 -0400 (Thu, 17 Oct 2024) EllapsedTime: 8.5 seconds RetCode: 0 Status: OK PackageFile: clst_1.52.0.tgz PackageFileSize: 1.662 MiB