Package: cliqueMS Version: 1.18.0 Command: F:\biocbuild\bbs-3.19-bioc\R\bin\R.exe CMD INSTALL cliqueMS StartedAt: 2024-06-26 16:31:09 -0400 (Wed, 26 Jun 2024) EndedAt: 2024-06-26 16:32:50 -0400 (Wed, 26 Jun 2024) EllapsedTime: 101.7 seconds RetCode: 0 Status: OK