Package: cliqueMS Version: 1.18.0 Command: chmod a+r cliqueMS -R && F:\biocbuild\bbs-3.19-bioc\R\bin\R.exe CMD build --keep-empty-dirs --no-resave-data cliqueMS StartedAt: 2024-06-26 17:50:45 -0400 (Wed, 26 Jun 2024) EndedAt: 2024-06-26 17:52:23 -0400 (Wed, 26 Jun 2024) EllapsedTime: 98.0 seconds RetCode: 1 Status: ERROR PackageFile: None PackageFileSize: NA