Package: cliqueMS Version: 1.18.2 Command: /home/biocbuild/bbs-3.19-bioc/R/bin/R CMD INSTALL cliqueMS StartedAt: 2024-10-16 16:25:12 -0400 (Wed, 16 Oct 2024) EndedAt: 2024-10-16 16:25:37 -0400 (Wed, 16 Oct 2024) EllapsedTime: 25.0 seconds RetCode: 1 Status: ERROR