Package: cliqueMS Version: 1.18.1 Command: /Library/Frameworks/R.framework/Resources/bin/R CMD check --install=check:cliqueMS.install-out.txt --library=/Library/Frameworks/R.framework/Resources/library --no-vignettes --timings cliqueMS_1.18.1.tar.gz StartedAt: 2024-08-08 02:25:39 -0400 (Thu, 08 Aug 2024) EndedAt: 2024-08-08 02:41:16 -0400 (Thu, 08 Aug 2024) EllapsedTime: 937.5 seconds RetCode: 0 Status: WARNINGS CheckDir: cliqueMS.Rcheck Warnings: 1