Package: cliqueMS Version: 1.18.0 Command: /home/biocbuild/R/R-beta-2024-04-15_r86425/bin/R CMD INSTALL cliqueMS StartedAt: 2024-05-08 20:44:48 -0000 (Wed, 08 May 2024) EndedAt: 2024-05-08 20:46:38 -0000 (Wed, 08 May 2024) EllapsedTime: 110.0 seconds RetCode: 0 Status: OK