Package: cliqueMS Version: 1.18.2 Command: /Library/Frameworks/R.framework/Resources/bin/R CMD build --keep-empty-dirs --no-resave-data cliqueMS StartedAt: 2024-10-16 21:42:25 -0400 (Wed, 16 Oct 2024) EndedAt: 2024-10-16 21:42:49 -0400 (Wed, 16 Oct 2024) EllapsedTime: 24.8 seconds RetCode: 1 Status: ERROR PackageFile: None PackageFileSize: NA