Package: cliqueMS Version: 1.18.1 Command: rm -rf cliqueMS.buildbin-libdir && mkdir cliqueMS.buildbin-libdir && /Users/biocbuild/BBS/utils/build-universal.sh cliqueMS_1.18.1.tar.gz /Library/Frameworks/R.framework/Resources/bin/R cliqueMS.buildbin-libdir StartedAt: 2024-08-09 15:39:37 -0400 (Fri, 09 Aug 2024) EndedAt: 2024-08-09 15:41:02 -0400 (Fri, 09 Aug 2024) EllapsedTime: 84.2 seconds RetCode: 0 Status: OK PackageFile: cliqueMS_1.18.1.tgz PackageFileSize: 1.033 MiB